BEGIN:VCALENDAR
VERSION:2.0
PRODID:-//Landbouwcentrum voor Voedergewassen vzw - ECPv6.15.15//NONSGML v1.0//EN
CALSCALE:GREGORIAN
METHOD:PUBLISH
X-WR-CALNAME:Landbouwcentrum voor Voedergewassen vzw
X-ORIGINAL-URL:https://www.lcvvzw.be
X-WR-CALDESC:Evenementen voor Landbouwcentrum voor Voedergewassen vzw
REFRESH-INTERVAL;VALUE=DURATION:PT1H
X-Robots-Tag:noindex
X-PUBLISHED-TTL:PT1H
BEGIN:VTIMEZONE
TZID:Europe/Brussels
BEGIN:DAYLIGHT
TZOFFSETFROM:+0100
TZOFFSETTO:+0200
TZNAME:CEST
DTSTART:20230326T010000
END:DAYLIGHT
BEGIN:STANDARD
TZOFFSETFROM:+0200
TZOFFSETTO:+0100
TZNAME:CET
DTSTART:20231029T010000
END:STANDARD
BEGIN:DAYLIGHT
TZOFFSETFROM:+0100
TZOFFSETTO:+0200
TZNAME:CEST
DTSTART:20240331T010000
END:DAYLIGHT
BEGIN:STANDARD
TZOFFSETFROM:+0200
TZOFFSETTO:+0100
TZNAME:CET
DTSTART:20241027T010000
END:STANDARD
BEGIN:DAYLIGHT
TZOFFSETFROM:+0100
TZOFFSETTO:+0200
TZNAME:CEST
DTSTART:20250330T010000
END:DAYLIGHT
BEGIN:STANDARD
TZOFFSETFROM:+0200
TZOFFSETTO:+0100
TZNAME:CET
DTSTART:20251026T010000
END:STANDARD
END:VTIMEZONE
BEGIN:VEVENT
DTSTART;TZID=Europe/Brussels:20240130T193000
DTEND;TZID=Europe/Brussels:20240130T230000
DTSTAMP:20260421T122113
CREATED:20240118T201159Z
LAST-MODIFIED:20240118T201303Z
UID:1636-1706643000-1706655600@www.lcvvzw.be
SUMMARY:Studieavond Voedergewassen en Veehouderij (Eeklo)
DESCRIPTION:Programma \n19u30: Registratie fytolicentie\n19u45: Verwelkoming \nJules Vandevelde\, Teeltleider Schoolhoeve College ten Doorn \n19u50: LCV-actueel met onder andere aandacht voor: \n\nAandachtspunten conditionaliteit en IPM.\nActualiteiten maïs:\n\nResultaten rassenproeven maïs.\nHoe pak ik de bemesting van maïs aan?\nTips en tricks bij de onkruidbestrijding in maïs.\n\n\nVruchtwisseling:\n\nVoordelen en aandachtspunten van mogelijke teelten op jouw rundveebedrijf.\n\n\n\nEllen Versavel\, Inagro \n21u10: Pauze \n21u20: Aanbevelingen rond de bestrijding van knolcyperus en doornappel. \nJeroen Feys\, UGent \n22u15: Aanpak van ziekten en plagen bij voederbieten. \nEva Wambacq\, HoGent \n22u40: Slotwoord \nDirk Audenaert\, Consulent Rundvee Boerenbond \n  \nDeze studieavond komt in aanmerking voor de bijscholing fytolicentie. \nBreng je identiteitskaart mee!  \nWanneer en waar\nDinsdag 30 januari 2024 om 19u30.\nPolyvalente zaal van het College ten Doorn\nZuidmoerstraat 125\n9900 Eeklo \nOpgelet: Komende vanuit richting Maldgem/Gent/Aalter (N9-E35-E40): door een wijziging in het verkeersplan van de Zuidmoerstraat is de parking enkel toegankelijk langs de Stationsstraat en Kaaistraat vanuit centrum Eeklo.\nKomende van het station: als voetganger kan je volledig de Zuidmoerstraat doorlopen (straat rechtover het station) tot aan de ingang College ten Doorn.\nGratis parkeren op het schoolterrein. \nInschrijven\nBij voorkeur inschrijven via dit inschrijvingsformulier.
URL:https://www.lcvvzw.be/event/studieavond-voedergewassen-en-veehouderij-eeklo/
LOCATION:polyvalente zaal College ten Doorn\, Zuidmoerstraat 125\, Eeklo\, 9900\, België
ATTACH;FMTTYPE=image/png:https://www.lcvvzw.be/wp-content/uploads/2022/02/afbeelding-uitnodiging-4J-vruchtwisseling.png
END:VEVENT
END:VCALENDAR