BEGIN:VCALENDAR
VERSION:2.0
PRODID:-//Landbouwcentrum voor Voedergewassen vzw - ECPv6.15.15//NONSGML v1.0//EN
CALSCALE:GREGORIAN
METHOD:PUBLISH
X-ORIGINAL-URL:https://www.lcvvzw.be
X-WR-CALDESC:Evenementen voor Landbouwcentrum voor Voedergewassen vzw
REFRESH-INTERVAL;VALUE=DURATION:PT1H
X-Robots-Tag:noindex
X-PUBLISHED-TTL:PT1H
BEGIN:VTIMEZONE
TZID:Europe/Brussels
BEGIN:DAYLIGHT
TZOFFSETFROM:+0100
TZOFFSETTO:+0200
TZNAME:CEST
DTSTART:20230326T010000
END:DAYLIGHT
BEGIN:STANDARD
TZOFFSETFROM:+0200
TZOFFSETTO:+0100
TZNAME:CET
DTSTART:20231029T010000
END:STANDARD
BEGIN:DAYLIGHT
TZOFFSETFROM:+0100
TZOFFSETTO:+0200
TZNAME:CEST
DTSTART:20240331T010000
END:DAYLIGHT
BEGIN:STANDARD
TZOFFSETFROM:+0200
TZOFFSETTO:+0100
TZNAME:CET
DTSTART:20241027T010000
END:STANDARD
BEGIN:DAYLIGHT
TZOFFSETFROM:+0100
TZOFFSETTO:+0200
TZNAME:CEST
DTSTART:20250330T010000
END:DAYLIGHT
BEGIN:STANDARD
TZOFFSETFROM:+0200
TZOFFSETTO:+0100
TZNAME:CET
DTSTART:20251026T010000
END:STANDARD
BEGIN:DAYLIGHT
TZOFFSETFROM:+0100
TZOFFSETTO:+0200
TZNAME:CEST
DTSTART:20260329T010000
END:DAYLIGHT
BEGIN:STANDARD
TZOFFSETFROM:+0200
TZOFFSETTO:+0100
TZNAME:CET
DTSTART:20261025T010000
END:STANDARD
END:VTIMEZONE
BEGIN:VEVENT
DTSTART;TZID=Europe/Brussels:20250617T100000
DTEND;TZID=Europe/Brussels:20250617T170000
DTSTAMP:20260425T154959
CREATED:20250602T143849Z
LAST-MODIFIED:20250602T143849Z
UID:5200-1750154400-1750179600@www.lcvvzw.be
SUMMARY:Binnen(ste) buiten studiedag
DESCRIPTION:Voor de start van de zomer\, organiseert Hooibeekhoeve een overkoepelende studiedag met resultaten\, bevindingen\, workshops en veldbezoeken vanuit een 13-tal lopende projecten. Je kan het programma nu al bekijken. Ook inschrijven en je persoonlijke programma samenstellen\, is mogelijk! \nHet programma \n10 uur: Ontvangst en start plenair gedeelte met een welkomstwoord van onze directeur Ilse Van den Broeck en gedeputeerde voor Landbouw Jinnih Beels. Nadien geeft Emilie de Morteuil van House of Agroecology een inspiratiesessie gebiedswerking B3W. Emilie neemt je mee in de rol van de retail en de verwerkende industrie in de transitie naar agro-ecologische landbouw. \n11.30 – 12.15 uur: Kies uit 4 workshops: \n\nErfsappen en rietveld – gelinkt aan het demonstratieproject BESS\nVeldbezoek Mais-boon en sorghum: de laatste onderzoeksresultaten – gelinkt aan VLAIO Farmers’ benefits\nMengteelt van granen en vlinderbloemigen in het rantsoen: pensgezondheid en melkproductie – gelinkt aan VLAIO Pensvoer\nMineralisatie van stikstof bij mais doorheen het jaar – gelinkt aan VLAIO Minimax\n\n12.15 – 13.15 uur: broodjeslunch & netwerkmoment \n13.30 – 14.45 uur: Kies uit 3 workshops: \n\nVeldbezoek (te voet\, 800m): Vruchtwisseling en onkruidbestrijding: welk effect heeft dit op bodem\, onkruiddruk en opbrengst? – gelinkt aan het demonstratieproject Vruchtwisseling voor een robuust melkveebedrijf en het LCV-project onkruidbestrijding\nVeldbezoek (bus): Eerste resultaten van de screening van mengsels voor kruidenrijk grasland – gelinkt aan het VLAIO-project Herbgrass\nSessie: Ik teel\, jij vervoedert: zo sluiten we kringlopen in de melkveehouderij – Begeleidingsdienst Betere Bodem- en Waterkwaliteit B3W\n\n15.15 – 16 uur: Kies uit 4 workshops: \n\nNaar een efficiënt watergebruik dankzij de opvolging van je verbruik en waterbesparende maatregelen – gelinkt aan Life ACLIMA en Blue Deal WAVE\nVeldbezoek (huiskavel): Mengteelt van granen en vlinderbloemigen op het veld – gelinkt aan VLAIO Pensvoer\nKrijg grip op Mycoplasma bovis door gerichte diagnostiek\, effectieve controle en preventie – gelinkt aan VLAIO Mycostop\nVoederbieten van ras tot rantsoen – gelinkt aan demonstratieproject Voederbieten\, een oud\, maar (klimaat)robuust gewas\n\n16 – 17 uur: Afsluitende drink & netwerkmoment \nTijdens het online inschrijven kan je voor elk dagdeel aangeven of je al dan niet aanwezig kan zijn en kan je kiezen welke workshops jij wil volgen. \n  \nPraktische informatie\nWaar: Hooibeeksedijk 1\, 2440 Geel\nWanneer: 17 juni 2025\, 10u – 17u\nInschrijven: via deze link \n  \nMet dank aan:
URL:https://www.lcvvzw.be/event/binnenste-buiten-studiedag/
LOCATION:Hooibeekhoeve\, Hooibeeksedijk 1\, Geel\, Antwerpen\, 2440
CATEGORIES:netwerkmoment,proefveldbezoek,TUM
ATTACH;FMTTYPE=image/png:https://www.lcvvzw.be/wp-content/uploads/2025/06/BinnensteBuiten2025_mailbanner_680x220px.png
ORGANIZER;CN="Hooibeekhoeve":MAILTO:hooibeekhoeve@provincieantwerpen.be
END:VEVENT
BEGIN:VEVENT
DTSTART;TZID=Europe/Brussels:20250225T200000
DTEND;TZID=Europe/Brussels:20250225T213000
DTSTAMP:20260425T154959
CREATED:20250109T075354Z
LAST-MODIFIED:20250217T174336Z
UID:5034-1740513600-1740519000@www.lcvvzw.be
SUMMARY:Webinar LCV-actueel
DESCRIPTION:Programma \n20u00: Verwelkoming \n20u05: LCV-actueel met onder andere aandacht voor: \n\n​Vroege of late maïsrassen\, wat leerden we in 2024?\nNieuwe inzichten uit het onderzoek rond knolcyperus\nLeer meer over je gras via WatchITGrow\nRassenproef voederbieten\nRekentool voor de kostprijs en voederwaarde van veldbonen\nVoederwaarde en opbrengst van méteils en hakselgranen\nWijzigingen conditionaliteit en IPM\n\nShana Clerckx (PVL Bocholt)\, Femke Moors (PIBO-Campus)\,  \nMarleen Delanoy (Agentschap voor Landbouw en Zeevisserij) \n21u30: Slotwoord \n  \nInschrijven \nDeelname is gratis maar inschrijven is verplicht.\nInschrijven kan tot en met 1 dag voor de webinar\, maar er zit wel een beperking op het maximaal aantal deelnemers. Snel inschrijven is dus de boodschap! \nBij voorkeur inschrijven via deze link.
URL:https://www.lcvvzw.be/event/lcv-studievergadering-webinar/
LOCATION:Antwerpen
CATEGORIES:webinar
ATTACH;FMTTYPE=image/jpeg:https://www.lcvvzw.be/wp-content/uploads/2025/01/lcv-studiedagen.jpg
END:VEVENT
BEGIN:VEVENT
DTSTART;TZID=Europe/Brussels:20250206T193000
DTEND;TZID=Europe/Brussels:20250206T223000
DTSTAMP:20260425T154959
CREATED:20250109T074603Z
LAST-MODIFIED:20250115T084327Z
UID:5021-1738870200-1738881000@www.lcvvzw.be
SUMMARY:LCV studievergadering Hoogstraten
DESCRIPTION:Programma \n19u45: Verwelkoming \nCharlie Dhaenens\, VITO Hoogstraten \n20u00: LCV-actueel met onder andere aandacht voor: \n\n​Vroege of late maïsrassen\, wat leerden we in 2024?\nNieuwe inzichten uit het onderzoek rond knolcyperus\nLeer meer over je gras via WatchITGrow\nRassenproef voederbieten\nRekentool voor de kostprijs en voederwaarde van veldbonen\nVoederwaarde en opbrengst van méteils en hakselgranen\nWijzigingen conditionaliteit en IPM\n\nAn Schellekens\, Landbouwcentrum voor Voedergewassen \n21u20: Pauze \n21u30: Demo Metheen: gebruik van methaanreducerende voeders op je bedrijf \nFrederik Faveere en Katleen Geerinckx\, Hooibeekhoeve \n22u10: Slotwoord \nMarleen Delanoy\, Agentschap Landbouw en Zeevisserij \nDe studieavond komt NIET in aanmerking voor de bijscholing fytolicentie. \n  \nWaar en wanneer \nDonderdag 6 februari 2025 om 19u45 \nVITO Hoogstraten \nGravin Elisabethlaan 30 \n2320 Hoogstraten \n  \nInschrijven \nBij voorkeur inschrijven via deze link
URL:https://www.lcvvzw.be/event/lcv-studievergadering-hoogstraten/
LOCATION:VITO Hoogstraten\, Gravin Elisabethlaan\, Hoogstraten\, 2320
ATTACH;FMTTYPE=image/jpeg:https://www.lcvvzw.be/wp-content/uploads/2025/01/lcv-studiedagen.jpg
END:VEVENT
BEGIN:VEVENT
DTSTART;TZID=Europe/Brussels:20240626T133000
DTEND;TZID=Europe/Brussels:20240626T170000
DTSTAMP:20260425T154959
CREATED:20240516T173137Z
LAST-MODIFIED:20240522T123220Z
UID:4555-1719408600-1719421200@www.lcvvzw.be
SUMMARY:Proefveldbezoek Proefhoeve Bottelare
DESCRIPTION:Wanneer : woensdag 26 juni 2024 van 13:30 tot 17:00 uur\n\nInschrijvingslink\n\nProgramma\n13.30 u Verwelkoming\nProf. Dr. Ir. Geert Haesaert (UGent – Faculteit Bio-ingenieurswetenschappen)\nDr. Annelies Deroissart (HOGENT – Onderzoekscentrum AgroFoodNature)\nProf. Dr. Ing. Steven Maenhout (UGent – Faculteit Bio-ingenieurswetenschappen) \n14.00 u Bezoek proefvelden onder leiding van het Bottelare-team\nVolgende EU-projecten worden in de kijker geplaatst: \nNutribudget: Optimalisatie van het nutriëntenbudget in de landbouw\nCROPDIVA: Met klimaatrobuuste gewassen naar meer diversiteit in de landbouw\nLEGENDARY: Kan de waardering van ecosysteemdiensten door peulvruchten de teelt in Europa boosten ? \n17.00 u Receptie \nDit proefveldbezoek komt in aanmerking als navormingsactiviteit voor de fytolicentie.
URL:https://www.lcvvzw.be/event/proefveldbezoek-proefhoeve-bottelare-2/
LOCATION:Proefhoeve Bottelare\, Diepestraat 1\, Bottelare\, Bottelare\, 9820
ATTACH;FMTTYPE=image/jpeg:https://www.lcvvzw.be/wp-content/uploads/2024/05/bottelare1342.jpg
END:VEVENT
END:VCALENDAR