BEGIN:VCALENDAR
VERSION:2.0
PRODID:-//Landbouwcentrum voor Voedergewassen vzw - ECPv6.15.15//NONSGML v1.0//EN
CALSCALE:GREGORIAN
METHOD:PUBLISH
X-ORIGINAL-URL:https://www.lcvvzw.be
X-WR-CALDESC:Evenementen voor Landbouwcentrum voor Voedergewassen vzw
REFRESH-INTERVAL;VALUE=DURATION:PT1H
X-Robots-Tag:noindex
X-PUBLISHED-TTL:PT1H
BEGIN:VTIMEZONE
TZID:Europe/Brussels
BEGIN:DAYLIGHT
TZOFFSETFROM:+0100
TZOFFSETTO:+0200
TZNAME:CEST
DTSTART:20250330T010000
END:DAYLIGHT
BEGIN:STANDARD
TZOFFSETFROM:+0200
TZOFFSETTO:+0100
TZNAME:CET
DTSTART:20251026T010000
END:STANDARD
BEGIN:DAYLIGHT
TZOFFSETFROM:+0100
TZOFFSETTO:+0200
TZNAME:CEST
DTSTART:20260329T010000
END:DAYLIGHT
BEGIN:STANDARD
TZOFFSETFROM:+0200
TZOFFSETTO:+0100
TZNAME:CET
DTSTART:20261025T010000
END:STANDARD
BEGIN:DAYLIGHT
TZOFFSETFROM:+0100
TZOFFSETTO:+0200
TZNAME:CEST
DTSTART:20270328T010000
END:DAYLIGHT
BEGIN:STANDARD
TZOFFSETFROM:+0200
TZOFFSETTO:+0100
TZNAME:CET
DTSTART:20271031T010000
END:STANDARD
END:VTIMEZONE
BEGIN:VEVENT
DTSTART;TZID=Europe/Brussels:20260423T193000
DTEND;TZID=Europe/Brussels:20260423T223000
DTSTAMP:20260419T142139
CREATED:20260325T133903Z
LAST-MODIFIED:20260325T134015Z
UID:5900-1776972600-1776983400@www.lcvvzw.be
SUMMARY:Bijscholing fytolicentie voor houders van rundvee en kleinvee - Merchtem
DESCRIPTION:Voorwoord \nDoordacht grasland- en ruwvoederbeheer vraagt kennis van zaken en een gerichte aanpak. Tijdens deze studieavonden verdiepen we ons in het herkennen en doelgericht bestrijden van probleemonkruiden. Daarnaast focussen we op de Code Goede Praktijk voor vul- en spoelplaatsen van spuittoestellen en watercaptatiepunten.\nDeze studieavond komt in aanmerking als vervolgopleiding voor de fytolicentie. \nProgramma \n\nVooruit met de geit voor waterkwaliteit | Barbara Manderyck (Agentschap Landbouw en Zeevisserij)\n• Het herkennen en bestrijden van moeilijke onkruiden in grasland en andere ruwvoederteelten | Daan Rooms en Erik Van Beneden (Sanac)\n\nInschrijving \nDeelname is GRATIS\, maar inschrijven is verplicht. Inschrijven is mogelijk tot één dag voor de studieavond doorgaat. Schrijf u hier in voor de ‘Bijscholing fytolicentie voor houders van rundvee en kleinvee’. \nPraktisch \nVanaf 19u30 bent u welkom om uw aanwezigheid te registreren\, de studieavonden starten stipt om 20u00.\nVergeet uw identiteitskaart niet! \nContact \nElke Vrancken | sectoradvies@lv.vlaanderen.be | Agentschap Landbouw en Zeevisserij\nJan Eskens | sectoradvies@lv.vlaanderen.be | Agentschap Landbouw en Zeevisserij\nLaurence Hubrecht | sectoradvies@lv.vlaanderen.be | Agentschap Landbouw en Zeevisserij \nDeze studiedag komt in aanmerking als vormingsactiviteit voor de fytolicentie. Meer info op www.fytolicentie.be
URL:https://www.lcvvzw.be/event/bijscholing-fytolicentie-voor-houders-van-rundvee-en-kleinvee-merchtem/
LOCATION:Tuinbouwschool Merchtem\, Molenbaan 54\, Merchtem\, 1785\, Belgium
CATEGORIES:fytolicentie
ATTACH;FMTTYPE=image/png:https://www.lcvvzw.be/wp-content/uploads/2026/03/schaap-en-koe.png
ORGANIZER;CN="Agentschap Landbouw en Zeevisserij":MAILTO:mathias.abts@lv.vlaanderen.be
END:VEVENT
END:VCALENDAR